{"text_format":"1","workbook":"xlsx","n_sheets":9,"sheets":["Overview","Results1","Results2","Results3","Baseline","Computed Results","SystemInformation","TestConfig","ExportSheet"],"not_rendered":{"charts":0,"images":0,"macros":1,"external_links":0,"defined_names":20,"comments":0,"pivot_tables":0},"unopened":[],"bounds":{"document_bytes":16777216,"sheet_cells":100000,"rows_first":2000,"rows_last":500,"rows_between":2000,"halvings":0,"cell_chars":16384,"cell_head_chars":4096},"cells_cut":0,"cells_raw":0,"read":"whole","date_system":"1900"}

{"sheet":"Overview","index":0,"n_rows":23,"n_cols":5,"rows_kept":23,"cut":false,"hidden":false,"merged":[[22,2,22,4],[18,2,18,4],[19,2,19,4],[3,0,3,5],[17,1,17,2],[17,3,17,4],[20,2,20,4],[21,2,21,4]]}
[]
[]
[]
["SPECapc 3ds Max 2014 Benchmark Results"]
[]
[]
[null,"Composite Scores","CPU Composite Score",null,{"$f":"GEOMEAN('Computed Results'!Q23,'Computed Results'!Q35:Q37,'Computed Results'!Q46:Q50)","v":4.6670994503722509}]
[null,null,"GPU Composite Score",null,{"$f":"GEOMEAN('Computed Results'!Q3:Q22,'Computed Results'!Q24,'Computed Results'!Q25:Q34,'Computed Results'!Q38:Q45)","v":3.6819696119286349}]
[null,null,"Large Model Composite Score",null,{"$f":"GEOMEAN('Computed Results'!Q23:Q24)","v":3.7554285038665878}]
[null,"SubTest Scores","Large Model CPU",null,{"$f":"'Computed Results'!S26","v":2.4877857267492582}]
[null,null,"LargeModel GPU",null,{"$f":"'Computed Results'!S27","v":5.668994357517307}]
[null,null,"Interactive Graphics",null,{"$f":"'Computed Results'!S17","v":3.6353359149070474}]
[null,null,"Advanced Visual Styles",null,{"$f":"'Computed Results'!S24","v":4.8008427154794386}]
[null,null,"Modeling",null,{"$f":"'Computed Results'!S36","v":2.9489930261467792}]
[null,null,"CPU Computing",null,{"$f":"'Computed Results'!S39","v":3.4402685074860857}]
[null,null,"CPU Rendering",null,{"$f":"'Computed Results'!S52","v":6.3557484646745506}]
[null,null,"GPU Rendering",null,{"$f":"'Computed Results'!S47","v":3.858508608967234}]
[]
[null,"Resolution:",{"$f":"Results1!H3","v":"[1920,1200]"}]
[null,"Date:",{"$f":"Results1!H4","v":"7/29/2014 3:07:58 PM"}]
[null,"Anti-Alias Setting:",{"$f":"TestConfig!G2","v":"AASetting=\"none\""}]
[null,"Graphics Card:",{"$f":"SystemInformation!G4","v":" NVIDIA Quadro K5000"}]
[null,"Graphics Driver:",{"$f":"SystemInformation!G7","v":" 9.18.13.3250"}]

{"sheet":"Results1","index":1,"n_rows":49,"n_cols":8,"rows_kept":49,"cut":false,"hidden":false,"merged":[]}
["ID","Name","TestType","Time","Weighting"]
["Test0541","Architecture Basic","Interactive Graphics",17.998999999999999,1,null,"Graphics"]
["Test0542","Architecture Advanced Styles","Interactive Graphics",49.235999999999997,1,null,"Resolution","[1920,1200]"]
["Test0410","Brutal Flower - Multiple Object Stress","Interactive Graphics",15.22,1,null,"Date","7/29/2014 3:07:58 PM"]
["Test0400","Max Hardware Light Test","Interactive Graphics",5.15,1]
["Test0622","HugeFish Smooth","Interactive Graphics",55.292000000000002,1]
["Test0625","HugeFish Rotate","Interactive Graphics",13.693,1]
["Test0340","IK Group","Interactive Graphics",15.468,1]
["Test0323","Opacity Performance - Blended","Interactive Graphics",6.4989999999999997,1]
["Test0390","Particle Tests","Interactive Graphics",3.3879999999999999,1]
["Test0140","Moving Blended Lights","Interactive Graphics",10.292,1]
["Test0600","SpaceFlyby Wireframe","Interactive Graphics",14.327,1]
["Test0601","SpaceFlyby Smooth with Edges","Interactive Graphics",24.12,1]
["Test0602","SpaceFlyby Smooth","Interactive Graphics",20.219000000000001,1]
["Test1510","SpiderWalk - Playback","Interactive Graphics",34.713999999999999,1]
["Test0044","Brutal Flower - Advanced Viewport","Advanced Visual Styles",55.447000000000003,1]
["Test0040","Building Flyby","Advanced Visual Styles",4.8310000000000004,1]
["Test0045","MeshSmooth-Polygon Spaceship","Advanced Visual Styles",5.3040000000000003,1]
["Test2040","FishFlock Smooth","Advanced Visual Styles",7.2750000000000004,1]
["Test0531","UnderWater Animation","Advanced Visual Styles",15.398999999999999,1]
["Test0210","Softbody Objects - Flag","Advanced Visual Styles",7.2960000000000003,1]
["Test8020","Building City","Large Model CPU",196.22800000000001,1]
["Test8030","Moving City","Large Model GPU",49.74,1]
["Test0050","Changing Color Test","Modeling",2.74,1]
["Test0070","SubObject Vertices","Modeling",0.83199999999999996,1]
["Test0100","Extrude Faces","Modeling",2.5070000000000001,1]
["Test0110","Bevel Faces","Modeling",1.4019999999999999,1]
["Test0041","Gizmo Transforms - Move","Modeling",1.641,1]
["Test0042","Gizmo Transforms - Rotate","Modeling",1.242,1]
["Test0043","Gizmo Transforms - Scale","Modeling",2.6970000000000001,1]
["Test0370","Create Tank Scene","Modeling",14.526999999999999,1]
["Test0121","Vertex Soft-Selection","Modeling",6.1459999999999999,1]
["Test0130","Multi-SubObject Texturing","Modeling",18.459,1]
["Test0125","Create Textures","CPU Computing",25.285,1]
["Test1000","Radiosity","CPU Computing",7.6769999999999996,1]
["Test1500","SpiderWalk - Create Walk Cycle","CPU Computing",9.8369999999999997,1]
["Test1070","Quicksilver-Green Apples Basic","GPU Rendering",5.7389999999999999,1]
["Test1075","Quicksilver-Green Apples Advanced","GPU Rendering",3.4249999999999998,1]
["Test1090","Quicksilver - Army Camp","GPU Rendering",23.332000000000001,1]
["Test1100","Quicksilver - Chess Baisc","GPU Rendering",6.306,1]
["Test1105","Quicksilver - Chess Advanced","GPU Rendering",6.2910000000000004,1]
["Test1110","Quicksilver - Chess Short","GPU Rendering",5.4720000000000004,1]
["Test1120","Quicksilver - Chess DOF","GPU Rendering",4.5839999999999996,1]
["Test1520","SpiderWalk - Quicksilver Render","GPU Rendering",9.3040000000000003,1]
["Test8120","Mental Ray - Train Engine","CPU Rendering",68.870999999999995,1]
["Test1095","Mental Ray - Army Camp","CPU Rendering",156.446,1]
["Test1115","Mental Ray - Chess Short","CPU Rendering",70.102999999999994,1]
["Test1040","UnderWater","CPU Rendering",15.563000000000001,1]
["Test1060","UnderwaterEscape","CPU Rendering",12.021000000000001,1]

{"sheet":"Results2","index":2,"n_rows":49,"n_cols":8,"rows_kept":49,"cut":false,"hidden":false,"merged":[]}
["ID","Name","TestType","Time","Weighting"]
["Test0541","Architecture Basic","Interactive Graphics",17.638000000000002,1,null,"Graphics"]
["Test0542","Architecture Advanced Styles","Interactive Graphics",49.732999999999997,1,null,"Resolution","[1920,1200]"]
["Test0410","Brutal Flower - Multiple Object Stress","Interactive Graphics",15.297000000000001,1,null,"Date","7/29/2014 3:30:20 PM"]
["Test0400","Max Hardware Light Test","Interactive Graphics",5.1449999999999996,1]
["Test0622","HugeFish Smooth","Interactive Graphics",55.805,1]
["Test0625","HugeFish Rotate","Interactive Graphics",13.74,1]
["Test0340","IK Group","Interactive Graphics",15.375999999999999,1]
["Test0323","Opacity Performance - Blended","Interactive Graphics",6.8170000000000002,1]
["Test0390","Particle Tests","Interactive Graphics",3.347,1]
["Test0140","Moving Blended Lights","Interactive Graphics",10.291,1]
["Test0600","SpaceFlyby Wireframe","Interactive Graphics",14.361000000000001,1]
["Test0601","SpaceFlyby Smooth with Edges","Interactive Graphics",24.245000000000001,1]
["Test0602","SpaceFlyby Smooth","Interactive Graphics",20.407,1]
["Test1510","SpiderWalk - Playback","Interactive Graphics",34.476999999999997,1]
["Test0044","Brutal Flower - Advanced Viewport","Advanced Visual Styles",55.438000000000002,1]
["Test0040","Building Flyby","Advanced Visual Styles",4.7130000000000001,1]
["Test0045","MeshSmooth-Polygon Spaceship","Advanced Visual Styles",5.1280000000000001,1]
["Test2040","FishFlock Smooth","Advanced Visual Styles",6.819,1]
["Test0531","UnderWater Animation","Advanced Visual Styles",15.417,1]
["Test0210","Softbody Objects - Flag","Advanced Visual Styles",7.3159999999999998,1]
["Test8020","Building City","Large Model CPU",194.81100000000001,1]
["Test8030","Moving City","Large Model GPU",50.973999999999997,1]
["Test0050","Changing Color Test","Modeling",2.714,1]
["Test0070","SubObject Vertices","Modeling",0.83,1]
["Test0100","Extrude Faces","Modeling",2.4950000000000001,1]
["Test0110","Bevel Faces","Modeling",1.4,1]
["Test0041","Gizmo Transforms - Move","Modeling",1.659,1]
["Test0042","Gizmo Transforms - Rotate","Modeling",1.25,1]
["Test0043","Gizmo Transforms - Scale","Modeling",2.552,1]
["Test0370","Create Tank Scene","Modeling",14.603,1]
["Test0121","Vertex Soft-Selection","Modeling",6.1159999999999997,1]
["Test0130","Multi-SubObject Texturing","Modeling",18.773,1]
["Test0125","Create Textures","CPU Computing",24.901,1]
["Test1000","Radiosity","CPU Computing",8.5229999999999997,1]
["Test1500","SpiderWalk - Create Walk Cycle","CPU Computing",9.6530000000000005,1]
["Test1070","Quicksilver-Green Apples Basic","GPU Rendering",5.7510000000000003,1]
["Test1075","Quicksilver-Green Apples Advanced","GPU Rendering",3.3940000000000001,1]
["Test1090","Quicksilver - Army Camp","GPU Rendering",23.256,1]
["Test1100","Quicksilver - Chess Baisc","GPU Rendering",6.2229999999999999,1]
["Test1105","Quicksilver - Chess Advanced","GPU Rendering",6.258,1]
["Test1110","Quicksilver - Chess Short","GPU Rendering",5.3869999999999996,1]
["Test1120","Quicksilver - Chess DOF","GPU Rendering",4.4980000000000002,1]
["Test1520","SpiderWalk - Quicksilver Render","GPU Rendering",9.1820000000000004,1]
["Test8120","Mental Ray - Train Engine","CPU Rendering",67.94,1]
["Test1095","Mental Ray - Army Camp","CPU Rendering",151.99,1]
["Test1115","Mental Ray - Chess Short","CPU Rendering",67.179000000000002,1]
["Test1040","UnderWater","CPU Rendering",15.428000000000001,1]
["Test1060","UnderwaterEscape","CPU Rendering",11.723000000000001,1]

{"sheet":"Results3","index":3,"n_rows":49,"n_cols":8,"rows_kept":49,"cut":false,"hidden":false,"merged":[]}
["ID","Name","TestType","Time","Weighting"]
["Test0541","Architecture Basic","Interactive Graphics",17.890999999999998,1,null,"Graphics"]
["Test0542","Architecture Advanced Styles","Interactive Graphics",48.988,1,null,"Resolution","[1920,1200]"]
["Test0410","Brutal Flower - Multiple Object Stress","Interactive Graphics",15.3,1,null,"Date","7/29/2014 3:52:33 PM"]
["Test0400","Max Hardware Light Test","Interactive Graphics",5.1269999999999998,1]
["Test0622","HugeFish Smooth","Interactive Graphics",55.975999999999999,1]
["Test0625","HugeFish Rotate","Interactive Graphics",13.756,1]
["Test0340","IK Group","Interactive Graphics",15.359,1]
["Test0323","Opacity Performance - Blended","Interactive Graphics",6.8,1]
["Test0390","Particle Tests","Interactive Graphics",3.3860000000000001,1]
["Test0140","Moving Blended Lights","Interactive Graphics",10.288,1]
["Test0600","SpaceFlyby Wireframe","Interactive Graphics",14.315,1]
["Test0601","SpaceFlyby Smooth with Edges","Interactive Graphics",24.177,1]
["Test0602","SpaceFlyby Smooth","Interactive Graphics",20.242999999999999,1]
["Test1510","SpiderWalk - Playback","Interactive Graphics",34.612000000000002,1]
["Test0044","Brutal Flower - Advanced Viewport","Advanced Visual Styles",55.475000000000001,1]
["Test0040","Building Flyby","Advanced Visual Styles",4.7060000000000004,1]
["Test0045","MeshSmooth-Polygon Spaceship","Advanced Visual Styles",5.1210000000000004,1]
["Test2040","FishFlock Smooth","Advanced Visual Styles",7.2640000000000002,1]
["Test0531","UnderWater Animation","Advanced Visual Styles",15.4,1]
["Test0210","Softbody Objects - Flag","Advanced Visual Styles",7.2629999999999999,1]
["Test8020","Building City","Large Model CPU",194.85400000000001,1]
["Test8030","Moving City","Large Model GPU",49.978000000000002,1]
["Test0050","Changing Color Test","Modeling",2.7130000000000001,1]
["Test0070","SubObject Vertices","Modeling",0.82599999999999996,1]
["Test0100","Extrude Faces","Modeling",2.5019999999999998,1]
["Test0110","Bevel Faces","Modeling",1.4,1]
["Test0041","Gizmo Transforms - Move","Modeling",1.6319999999999999,1]
["Test0042","Gizmo Transforms - Rotate","Modeling",1.2450000000000001,1]
["Test0043","Gizmo Transforms - Scale","Modeling",2.6709999999999998,1]
["Test0370","Create Tank Scene","Modeling",14.569000000000001,1]
["Test0121","Vertex Soft-Selection","Modeling",6.1289999999999996,1]
["Test0130","Multi-SubObject Texturing","Modeling",18.72,1]
["Test0125","Create Textures","CPU Computing",25.986999999999998,1]
["Test1000","Radiosity","CPU Computing",7.5659999999999998,1]
["Test1500","SpiderWalk - Create Walk Cycle","CPU Computing",10.27,1]
["Test1070","Quicksilver-Green Apples Basic","GPU Rendering",5.7439999999999998,1]
["Test1075","Quicksilver-Green Apples Advanced","GPU Rendering",3.44,1]
["Test1090","Quicksilver - Army Camp","GPU Rendering",23.372,1]
["Test1100","Quicksilver - Chess Baisc","GPU Rendering",6.2919999999999998,1]
["Test1105","Quicksilver - Chess Advanced","GPU Rendering",6.2930000000000001,1]
["Test1110","Quicksilver - Chess Short","GPU Rendering",5.4349999999999996,1]
["Test1120","Quicksilver - Chess DOF","GPU Rendering",4.4889999999999999,1]
["Test1520","SpiderWalk - Quicksilver Render","GPU Rendering",9.2140000000000004,1]
["Test8120","Mental Ray - Train Engine","CPU Rendering",68.396000000000001,1]
["Test1095","Mental Ray - Army Camp","CPU Rendering",154.267,1]
["Test1115","Mental Ray - Chess Short","CPU Rendering",67.802999999999997,1]
["Test1040","UnderWater","CPU Rendering",15.613,1]
["Test1060","UnderwaterEscape","CPU Rendering",11.827,1]

{"sheet":"Baseline","index":4,"n_rows":49,"n_cols":9,"rows_kept":49,"cut":false,"hidden":false,"merged":[]}
["TestType","ID","Name","Run 1","Run 2","Run 3","Run 4","Weighting","Median 1,2,3"]
["Interactive Graphics","Test0541","Architecture Basic",73.817999999999998,75.198999999999998,56.787999999999997,null,1,{"$f":"MEDIAN(D2:F2)","v":73.817999999999998}]
["High Quality Graphics","Test0542","Architecture Advanced Styles",368.43400000000003,369.38499999999999,367.77100000000002,null,1,{"$f":"MEDIAN(D3:F3)","v":368.43400000000003}]
["Interactive Graphics","Test0410","Brutal Flower - Multiple Object Stress",43.213000000000001,42.863999999999997,43.103999999999999,null,1,{"$f":"MEDIAN(D4:F4)","v":43.103999999999999}]
["Interactive Graphics","Test0400","Max Hardware Light Test",39.868000000000002,39.808,39.832000000000001,null,1,39.832000000000001]
["Interactive Graphics","Test0622","HugeFish Smooth",217.94499999999999,223.053,225.23099999999999,null,1,223.053]
["Interactive Graphics","Test0625","HugeFish Rotate",51.637,55.231000000000002,55.222999999999999,null,1,55.222999999999999]
["Interactive Graphics","Test0340","IK Group",37.89,37.128999999999998,36.991,null,1,37.128999999999998]
["Interactive Graphics","Test0323","Opacity Performance - Blended",44.277000000000001,44.137,44.115000000000002,null,1,44.137]
["Interactive Graphics","Test0390","Particle Tests",6.3719999999999999,6.2119999999999997,6.1749999999999998,null,1,6.2119999999999997]
["Interactive Graphics","Test0140","Moving Blended Lights",72.17,72.007000000000005,72.287000000000006,null,1,72.17]
["Interactive Graphics","Test0600","SpaceFlyby Wireframe",35.061999999999998,34.591999999999999,35.048000000000002,null,1,35.048000000000002]
["Interactive Graphics","Test0601","SpaceFlyby Smooth with Edges",56.692999999999998,55.695,56.393999999999998,null,1,56.393999999999998]
["Interactive Graphics","Test0602","SpaceFlyby Smooth",47.655999999999999,47.375999999999998,47.746000000000002,null,1,47.655999999999999]
["Interactive Graphics","Test1510","SpiderWalk - Playback",100.502,82.989000000000004,83.144000000000005,null,1,83.144000000000005]
["Advanced Visual Styles","Test2050","Brutal Flower - Advanced Viewport",249.68700000000001,269.923,269.88600000000002,null,1,269.88600000000002]
["Advanced Visual Styles","Test0040","Building Flyby",34.225999999999999,33.762999999999998,33.832999999999998,null,1,33.832999999999998]
["Advanced Visual Styles","Test2010","MeshSmooth-Polygon Spaceship",27.462,32.625,32.639000000000003,null,1,32.625]
["Advanced Visual Styles","Test2040","FishFlock Smooth",20.030999999999999,18.788,19.658000000000001,null,1,19.658000000000001]
["Advanced Visual Styles","Test0531","UnderWater Animation",102.126,105.42400000000001,105.51,null,1,105.42400000000001]
["Advanced Visual Styles","Test0210","Softbody Objects - Flag",21.724,21.69,21.67,null,1,21.69]
["Large Model CPU","Test0020","Building City",487.68299999999999,484.70499999999998,484.755,null,1,484.755]
["Large Model GPU","Test0030","Moving City",284.654,283.32499999999999,281.08600000000001,null,1,283.32499999999999]
["Modeling","Test0050","Changing Color Test",14.513,14.484999999999999,14.478999999999999,null,1,14.484999999999999]
["Modeling","Test0070","SubObject Vertices",1.7649999999999999,1.7629999999999999,1.7589999999999999,null,1,1.7629999999999999]
["Modeling","Test0100","Extrude Faces",7.625,7.6230000000000002,7.6609999999999996,null,1,7.625]
["Modeling","Test0110","Bevel Faces",5.31,5.3079999999999998,5.3159999999999998,null,1,5.31]
["Modeling","Test0041","Gizmo Transforms - Move",5.0919999999999996,5.3369999999999997,5.1040000000000001,null,1,5.1040000000000001]
["Modeling","Test0042","Gizmo Transforms - Rotate",3.38,3.3479999999999999,3.355,null,1,3.355]
["Modeling","Test0043","Gizmo Transforms - Scale",9.8149999999999995,9.5050000000000008,9.85,null,1,9.8149999999999995]
["Modeling","Test0370","Create Tank Scene",35.991,35.396999999999998,35.392000000000003,null,1,35.396999999999998]
["Modeling","Test0121","Vertex Soft-Selection",12.065,12.044,12.1,null,1,12.065]
["Modeling","Test0130","Multi-SubObject Texturing",48.241999999999997,48.375999999999998,47.414999999999999,null,1,48.241999999999997]
["CPU Computing","Test0125","Create Textures",122.375,121.373,122.85599999999999,null,1,122.375]
["CPU Computing","Test1000","Radiosity",38.432000000000002,37.255000000000003,37.567,null,1,37.567]
["CPU Computing","Test1500","SpiderWalk - Create Walk Cycle",17.664000000000001,16.879000000000001,16.911999999999999,null,1,16.911999999999999]
["GPU Rendering","Test1070","Quicksilver-Green Apples Basic",36.451999999999998,36.338999999999999,36.409999999999997,null,1,36.409999999999997]
["GPU Rendering","Test1075","Quicksilver-Green Apples Advanced",53.41,19.760999999999999,19.596,null,1,19.760999999999999]
["GPU Rendering","Test1090","Quicksilver - Army Camp",199.405,70.036000000000001,68.531000000000006,null,1,70.036000000000001]
["GPU Rendering","Test1100","Quicksilver - Chess Baisc",132.94200000000001,21.216000000000001,21.265999999999998,null,1,21.265999999999998]
["GPU Rendering","Test1105","Quicksilver - Chess Advanced",22.736999999999998,22.489000000000001,21.443000000000001,null,1,22.489000000000001]
["GPU Rendering","Test1110","Quicksilver - Chess Short",16.39,16.329999999999998,16.274999999999999,null,1,16.329999999999998]
["GPU Rendering","Test1120","Quicksilver - Chess DOF",21.306999999999999,21.561,21.353000000000002,null,1,21.353000000000002]
["GPU Rendering","Test1520","SpiderWalk - Quicksilver Render",33.540999999999997,23.893999999999998,23.928000000000001,null,1,23.928000000000001]
["CPU Rendering","Test1085","Mental Ray - Train Engine",448.18599999999998,448.45400000000001,449.29700000000003,null,1,448.45400000000001]
["CPU Rendering","Test1095","Mental Ray - Army Camp",1092.3399999999999,1088.82,1083.99,null,1,1088.82]
["CPU Rendering","Test1115","Mental Ray - Chess Short",487.18700000000001,481.05900000000003,490.91699999999997,null,1,487.18700000000001]
["CPU Rendering","Test1040","UnderWater",91.415000000000006,91.680999999999997,91.484999999999999,null,1,91.484999999999999]
["CPU Rendering","Test1060","UnderwaterEscape",62.177,62.917000000000002,62.753,null,1,62.753]

{"sheet":"Computed Results","index":5,"n_rows":52,"n_cols":20,"rows_kept":52,"cut":false,"hidden":false,"merged":[[0,2,0,4],[0,6,0,8],[0,10,0,12]]}
[null,null,"Test Run 1",null,null,null,"Test Run 2",null,null,null,"Test Run 3"]
[null,null,"Score","Wt","Wt Result",null,"Score","Wt","Wt Result",null,"Score","Wt","Wt Result",null,"Median","Baseline","Normalized Score"]
[{"$f":"Results1!C2","v":"Interactive Graphics"},"Results1!A2",{"$f":"Results1!D2","v":17.998999999999999},{"$f":"Results1!E2","v":1},{"$f":"C3*D3","v":17.998999999999999},null,{"$f":"Results2!D2","v":17.638000000000002},{"$f":"Results2!E2","v":1},{"$f":"G3*H3","v":17.638000000000002},null,{"$f":"Results3!D2","v":17.890999999999998},{"$f":"Results3!E2","v":1},{"$f":"K3*L3","v":17.890999999999998},null,{"$f":"MEDIAN(M3,I3,E3)","v":17.890999999999998},{"$f":"Baseline!H2*Baseline!I2","v":73.817999999999998},{"$f":"IF($O3=0,0,($P3/$O3))","v":4.1259851321893688}]
[{"$f":"Results1!C3","v":"Interactive Graphics"},"=[specAPC2015.xlsm]Results1!A3",{"$f":"Results1!D3","v":49.235999999999997},{"$f":"Results1!E3","v":1},49.235999999999997,null,{"$f":"Results2!D3","v":49.732999999999997},{"$f":"Results2!E3","v":1},49.732999999999997,null,{"$f":"Results3!D3","v":48.988},{"$f":"Results3!E3","v":1},48.988,null,49.235999999999997,{"$f":"Baseline!H3*Baseline!I3","v":368.43400000000003},7.4830205540661314]
[{"$f":"Results1!C4","v":"Interactive Graphics"},{"$f":"Results1!A4","v":"Test0410"},{"$f":"Results1!D4","v":15.22},{"$f":"Results1!E4","v":1},15.22,null,{"$f":"Results2!D4","v":15.297000000000001},{"$f":"Results2!E4","v":1},15.297000000000001,null,{"$f":"Results3!D4","v":15.3},{"$f":"Results3!E4","v":1},15.3,null,15.297000000000001,{"$f":"Baseline!H4*Baseline!I4","v":43.103999999999999},2.817807413218278]
[{"$f":"Results1!C5","v":"Interactive Graphics"},{"$f":"Results1!A5","v":"Test0400"},{"$f":"Results1!D5","v":5.15},{"$f":"Results1!E5","v":1},5.15,null,{"$f":"Results2!D5","v":5.1449999999999996},{"$f":"Results2!E5","v":1},5.1449999999999996,null,{"$f":"Results3!D5","v":5.1269999999999998},{"$f":"Results3!E5","v":1},5.1269999999999998,null,5.1449999999999996,{"$f":"Baseline!H5*Baseline!I5","v":39.832000000000001},7.7418853255587958]
[{"$f":"Results1!C6","v":"Interactive Graphics"},{"$f":"Results1!A6","v":"Test0622"},{"$f":"Results1!D6","v":55.292000000000002},{"$f":"Results1!E6","v":1},55.292000000000002,null,{"$f":"Results2!D6","v":55.805},{"$f":"Results2!E6","v":1},55.805,null,{"$f":"Results3!D6","v":55.975999999999999},{"$f":"Results3!E6","v":1},55.975999999999999,null,55.805,{"$f":"Baseline!H6*Baseline!I6","v":223.053},3.9970074366096227]
[{"$f":"Results1!C7","v":"Interactive Graphics"},{"$f":"Results1!A7","v":"Test0625"},{"$f":"Results1!D7","v":13.693},{"$f":"Results1!E7","v":1},13.693,null,{"$f":"Results2!D7","v":13.74},{"$f":"Results2!E7","v":1},13.74,null,{"$f":"Results3!D7","v":13.756},{"$f":"Results3!E7","v":1},13.756,null,13.74,{"$f":"Baseline!H7*Baseline!I7","v":55.222999999999999},4.0191411935953418]
[{"$f":"Results1!C8","v":"Interactive Graphics"},{"$f":"Results1!A8","v":"Test0340"},{"$f":"Results1!D8","v":15.468},{"$f":"Results1!E8","v":1},15.468,null,{"$f":"Results2!D8","v":15.375999999999999},{"$f":"Results2!E8","v":1},15.375999999999999,null,{"$f":"Results3!D8","v":15.359},{"$f":"Results3!E8","v":1},15.359,null,15.375999999999999,{"$f":"Baseline!H8*Baseline!I8","v":37.128999999999998},2.4147372528616025]
[{"$f":"Results1!C9","v":"Interactive Graphics"},{"$f":"Results1!A9","v":"Test0323"},{"$f":"Results1!D9","v":6.4989999999999997},{"$f":"Results1!E9","v":1},6.4989999999999997,null,{"$f":"Results2!D9","v":6.8170000000000002},{"$f":"Results2!E9","v":1},6.8170000000000002,null,{"$f":"Results3!D9","v":6.8},{"$f":"Results3!E9","v":1},6.8,null,6.8,{"$f":"Baseline!H9*Baseline!I9","v":44.137},6.4907352941176475]
[{"$f":"Results1!C10","v":"Interactive Graphics"},{"$f":"Results1!A10","v":"Test0390"},{"$f":"Results1!D10","v":3.3879999999999999},{"$f":"Results1!E10","v":1},3.3879999999999999,null,{"$f":"Results2!D10","v":3.347},{"$f":"Results2!E10","v":1},3.347,null,{"$f":"Results3!D10","v":3.3860000000000001},{"$f":"Results3!E10","v":1},3.3860000000000001,null,3.3860000000000001,{"$f":"Baseline!H10*Baseline!I10","v":6.2119999999999997},1.8346131128174836]
[{"$f":"Results1!C11","v":"Interactive Graphics"},{"$f":"Results1!A11","v":"Test0140"},{"$f":"Results1!D11","v":10.292},{"$f":"Results1!E11","v":1},10.292,null,{"$f":"Results2!D11","v":10.291},{"$f":"Results2!E11","v":1},10.291,null,{"$f":"Results3!D11","v":10.288},{"$f":"Results3!E11","v":1},10.288,null,10.291,{"$f":"Baseline!H11*Baseline!I11","v":72.17},7.0129239140996988]
[{"$f":"Results1!C12","v":"Interactive Graphics"},{"$f":"Results1!A12","v":"Test0600"},{"$f":"Results1!D12","v":14.327},{"$f":"Results1!E12","v":1},14.327,null,{"$f":"Results2!D12","v":14.361000000000001},{"$f":"Results2!E12","v":1},14.361000000000001,null,{"$f":"Results3!D12","v":14.315},{"$f":"Results3!E12","v":1},14.315,null,14.327,{"$f":"Baseline!H12*Baseline!I12","v":35.048000000000002},2.4462902212605573]
[{"$f":"Results1!C13","v":"Interactive Graphics"},{"$f":"Results1!A13","v":"Test0601"},{"$f":"Results1!D13","v":24.12},{"$f":"Results1!E13","v":1},24.12,null,{"$f":"Results2!D13","v":24.245000000000001},{"$f":"Results2!E13","v":1},24.245000000000001,null,{"$f":"Results3!D13","v":24.177},{"$f":"Results3!E13","v":1},24.177,null,24.177,{"$f":"Baseline!H13*Baseline!I13","v":56.393999999999998},2.3325474624643254]
[{"$f":"Results1!C14","v":"Interactive Graphics"},{"$f":"Results1!A14","v":"Test0602"},{"$f":"Results1!D14","v":20.219000000000001},{"$f":"Results1!E14","v":1},20.219000000000001,null,{"$f":"Results2!D14","v":20.407},{"$f":"Results2!E14","v":1},20.407,null,{"$f":"Results3!D14","v":20.242999999999999},{"$f":"Results3!E14","v":1},20.242999999999999,null,20.242999999999999,{"$f":"Baseline!H14*Baseline!I14","v":47.655999999999999},2.354196512374648]
[{"$f":"Results1!C15","v":"Interactive Graphics"},{"$f":"Results1!A15","v":"Test1510"},{"$f":"Results1!D15","v":34.713999999999999},{"$f":"Results1!E15","v":1},34.713999999999999,null,{"$f":"Results2!D15","v":34.476999999999997},{"$f":"Results2!E15","v":1},34.476999999999997,null,{"$f":"Results3!D15","v":34.612000000000002},{"$f":"Results3!E15","v":1},34.612000000000002,null,34.612000000000002,{"$f":"Baseline!H15*Baseline!I15","v":83.144000000000005},2.4021726568820063]
[{"$f":"Results1!C16","v":"Advanced Visual Styles"},{"$f":"Results1!A16","v":"Test0044"},{"$f":"Results1!D16","v":55.447000000000003},{"$f":"Results1!E16","v":1},55.447000000000003,null,{"$f":"Results2!D16","v":55.438000000000002},{"$f":"Results2!E16","v":1},55.438000000000002,null,{"$f":"Results3!D16","v":55.475000000000001},{"$f":"Results3!E16","v":1},55.475000000000001,null,55.447000000000003,{"$f":"Baseline!H16*Baseline!I16","v":269.88600000000002},4.867459014915144,null,{"$f":"GEOMEAN(Q3:Q16)","v":3.6353359149070474},"Interactive Graphics"]
[{"$f":"Results1!C17","v":"Advanced Visual Styles"},{"$f":"Results1!A17","v":"Test0040"},{"$f":"Results1!D17","v":4.8310000000000004},{"$f":"Results1!E17","v":1},4.8310000000000004,null,{"$f":"Results2!D17","v":4.7130000000000001},{"$f":"Results2!E17","v":1},4.7130000000000001,null,{"$f":"Results3!D17","v":4.7060000000000004},{"$f":"Results3!E17","v":1},4.7060000000000004,null,4.7130000000000001,{"$f":"Baseline!H17*Baseline!I17","v":33.832999999999998},7.1786547846382343]
[{"$f":"Results1!C18","v":"Advanced Visual Styles"},{"$f":"Results1!A18","v":"Test0045"},{"$f":"Results1!D18","v":5.3040000000000003},{"$f":"Results1!E18","v":1},5.3040000000000003,null,{"$f":"Results2!D18","v":5.1280000000000001},{"$f":"Results2!E18","v":1},5.1280000000000001,null,{"$f":"Results3!D18","v":5.1210000000000004},{"$f":"Results3!E18","v":1},5.1210000000000004,null,5.1280000000000001,{"$f":"Baseline!H18*Baseline!I18","v":32.625},6.3621294851794072]
[{"$f":"Results1!C19","v":"Advanced Visual Styles"},{"$f":"Results1!A19","v":"Test2040"},{"$f":"Results1!D19","v":7.2750000000000004},{"$f":"Results1!E19","v":1},7.2750000000000004,null,{"$f":"Results2!D19","v":6.819},{"$f":"Results2!E19","v":1},6.819,null,{"$f":"Results3!D19","v":7.2640000000000002},{"$f":"Results3!E19","v":1},7.2640000000000002,null,7.2640000000000002,{"$f":"Baseline!H19*Baseline!I19","v":19.658000000000001},2.7062224669603525]
[{"$f":"Results1!C20","v":"Advanced Visual Styles"},{"$f":"Results1!A20","v":"Test0531"},{"$f":"Results1!D20","v":15.398999999999999},{"$f":"Results1!E20","v":1},15.398999999999999,null,{"$f":"Results2!D20","v":15.417},{"$f":"Results2!E20","v":1},15.417,null,{"$f":"Results3!D20","v":15.4},{"$f":"Results3!E20","v":1},15.4,null,15.4,{"$f":"Baseline!H20*Baseline!I20","v":105.42400000000001},6.8457142857142861]
[{"$f":"Results1!C21","v":"Advanced Visual Styles"},{"$f":"Results1!A21","v":"Test0210"},{"$f":"Results1!D21","v":7.2960000000000003},{"$f":"Results1!E21","v":1},7.2960000000000003,null,{"$f":"Results2!D21","v":7.3159999999999998},{"$f":"Results2!E21","v":1},7.3159999999999998,null,{"$f":"Results3!D21","v":7.2629999999999999},{"$f":"Results3!E21","v":1},7.2629999999999999,null,7.2960000000000003,{"$f":"Baseline!H21*Baseline!I21","v":21.69},2.9728618421052633]
[{"$f":"Results1!C22","v":"Large Model CPU"},{"$f":"Results1!A22","v":"Test8020"},{"$f":"Results1!D22","v":196.22800000000001},{"$f":"Results1!E22","v":1},196.22800000000001,null,{"$f":"Results2!D22","v":194.81100000000001},{"$f":"Results2!E22","v":1},194.81100000000001,null,{"$f":"Results3!D22","v":194.85400000000001},{"$f":"Results3!E22","v":1},194.85400000000001,null,194.85400000000001,{"$f":"Baseline!H22*Baseline!I22","v":484.755},2.4877857267492582]
[{"$f":"Results1!C23","v":"Large Model GPU"},{"$f":"Results1!A23","v":"Test8030"},{"$f":"Results1!D23","v":49.74},{"$f":"Results1!E23","v":1},49.74,null,{"$f":"Results2!D23","v":50.973999999999997},{"$f":"Results2!E23","v":1},50.973999999999997,null,{"$f":"Results3!D23","v":49.978000000000002},{"$f":"Results3!E23","v":1},49.978000000000002,null,49.978000000000002,{"$f":"Baseline!H23*Baseline!I23","v":283.32499999999999},5.668994357517307,null,{"$f":"GEOMEAN(Q17:Q22)","v":4.8008427154794386},"Advanced Visual Styles"]
[{"$f":"Results1!C24","v":"Modeling"},{"$f":"Results1!A24","v":"Test0050"},{"$f":"Results1!D24","v":2.74},{"$f":"Results1!E24","v":1},2.74,null,{"$f":"Results2!D24","v":2.714},{"$f":"Results2!E24","v":1},2.714,null,{"$f":"Results3!D24","v":2.7130000000000001},{"$f":"Results3!E24","v":1},2.7130000000000001,null,2.714,{"$f":"Baseline!H24*Baseline!I24","v":14.484999999999999},5.3371407516580689]
[{"$f":"Results1!C25","v":"Modeling"},{"$f":"Results1!A25","v":"Test0070"},{"$f":"Results1!D25","v":0.83199999999999996},{"$f":"Results1!E25","v":1},0.83199999999999996,null,{"$f":"Results2!D25","v":0.83},{"$f":"Results2!E25","v":1},0.83,null,{"$f":"Results3!D25","v":0.82599999999999996},{"$f":"Results3!E25","v":1},0.82599999999999996,null,0.83,{"$f":"Baseline!H25*Baseline!I25","v":1.7629999999999999},2.1240963855421686,null,{"$f":"Q23","v":2.4877857267492582},"Large Model CPU"]
[{"$f":"Results1!C26","v":"Modeling"},{"$f":"Results1!A26","v":"Test0100"},{"$f":"Results1!D26","v":2.5070000000000001},{"$f":"Results1!E26","v":1},2.5070000000000001,null,{"$f":"Results2!D26","v":2.4950000000000001},{"$f":"Results2!E26","v":1},2.4950000000000001,null,{"$f":"Results3!D26","v":2.5019999999999998},{"$f":"Results3!E26","v":1},2.5019999999999998,null,2.5019999999999998,{"$f":"Baseline!H26*Baseline!I26","v":7.625},3.0475619504396487,null,{"$f":"Q24","v":5.668994357517307},"Large Model GPU"]
[{"$f":"Results1!C27","v":"Modeling"},{"$f":"Results1!A27","v":"Test0110"},{"$f":"Results1!D27","v":1.4019999999999999},{"$f":"Results1!E27","v":1},1.4019999999999999,null,{"$f":"Results2!D27","v":1.4},{"$f":"Results2!E27","v":1},1.4,null,{"$f":"Results3!D27","v":1.4},{"$f":"Results3!E27","v":1},1.4,null,1.4,{"$f":"Baseline!H27*Baseline!I27","v":5.31},3.7928571428571427]
[{"$f":"Results1!C28","v":"Modeling"},{"$f":"Results1!A28","v":"Test0041"},{"$f":"Results1!D28","v":1.641},{"$f":"Results1!E28","v":1},1.641,null,{"$f":"Results2!D28","v":1.659},{"$f":"Results2!E28","v":1},1.659,null,{"$f":"Results3!D28","v":1.6319999999999999},{"$f":"Results3!E28","v":1},1.6319999999999999,null,1.641,{"$f":"Baseline!H28*Baseline!I28","v":5.1040000000000001},3.1102985984156004]
[{"$f":"Results1!C29","v":"Modeling"},{"$f":"Results1!A29","v":"Test0042"},{"$f":"Results1!D29","v":1.242},{"$f":"Results1!E29","v":1},1.242,null,{"$f":"Results2!D29","v":1.25},{"$f":"Results2!E29","v":1},1.25,null,{"$f":"Results3!D29","v":1.2450000000000001},{"$f":"Results3!E29","v":1},1.2450000000000001,null,1.2450000000000001,{"$f":"Baseline!H29*Baseline!I29","v":3.355},2.6947791164658632]
[{"$f":"Results1!C30","v":"Modeling"},{"$f":"Results1!A30","v":"Test0043"},{"$f":"Results1!D30","v":2.6970000000000001},{"$f":"Results1!E30","v":1},2.6970000000000001,null,{"$f":"Results2!D30","v":2.552},{"$f":"Results2!E30","v":1},2.552,null,{"$f":"Results3!D30","v":2.6709999999999998},{"$f":"Results3!E30","v":1},2.6709999999999998,null,2.6709999999999998,{"$f":"Baseline!H30*Baseline!I30","v":9.8149999999999995},3.6746536877573943]
[{"$f":"Results1!C31","v":"Modeling"},{"$f":"Results1!A31","v":"Test0370"},{"$f":"Results1!D31","v":14.526999999999999},{"$f":"Results1!E31","v":1},14.526999999999999,null,{"$f":"Results2!D31","v":14.603},{"$f":"Results2!E31","v":1},14.603,null,{"$f":"Results3!D31","v":14.569000000000001},{"$f":"Results3!E31","v":1},14.569000000000001,null,14.569000000000001,{"$f":"Baseline!H31*Baseline!I31","v":35.396999999999998},2.4296108174891891]
[{"$f":"Results1!C32","v":"Modeling"},{"$f":"Results1!A32","v":"Test0121"},{"$f":"Results1!D32","v":6.1459999999999999},{"$f":"Results1!E32","v":1},6.1459999999999999,null,{"$f":"Results2!D32","v":6.1159999999999997},{"$f":"Results2!E32","v":1},6.1159999999999997,null,{"$f":"Results3!D32","v":6.1289999999999996},{"$f":"Results3!E32","v":1},6.1289999999999996,null,6.1289999999999996,{"$f":"Baseline!H32*Baseline!I32","v":12.065},1.9685103605808452]
[{"$f":"Results1!C33","v":"Modeling"},{"$f":"Results1!A33","v":"Test0130"},{"$f":"Results1!D33","v":18.459},{"$f":"Results1!E33","v":1},18.459,null,{"$f":"Results2!D33","v":18.773},{"$f":"Results2!E33","v":1},18.773,null,{"$f":"Results3!D33","v":18.72},{"$f":"Results3!E33","v":1},18.72,null,18.72,{"$f":"Baseline!H33*Baseline!I33","v":48.241999999999997},2.5770299145299145]
[{"$f":"Results1!C34","v":"CPU Computing"},{"$f":"Results1!A34","v":"Test0125"},{"$f":"Results1!D34","v":25.285},{"$f":"Results1!E34","v":1},{"$f":"C35*D35","v":25.285},null,{"$f":"Results2!D34","v":24.901},{"$f":"Results2!E34","v":1},{"$f":"G35*H35","v":24.901},null,{"$f":"Results3!D34","v":25.986999999999998},{"$f":"Results3!E34","v":1},{"$f":"K35*L35","v":25.986999999999998},null,{"$f":"MEDIAN(M35,I35,E35)","v":25.285},{"$f":"Baseline!H34*Baseline!I34","v":122.375},{"$f":"IF($O35=0,0,($P35/$O35))","v":4.839825983784853}]
[{"$f":"Results1!C35","v":"CPU Computing"},{"$f":"Results1!A35","v":"Test1000"},{"$f":"Results1!D35","v":7.6769999999999996},{"$f":"Results1!E35","v":1},7.6769999999999996,null,{"$f":"Results2!D35","v":8.5229999999999997},{"$f":"Results2!E35","v":1},8.5229999999999997,null,{"$f":"Results3!D35","v":7.5659999999999998},{"$f":"Results3!E35","v":1},7.5659999999999998,null,7.6769999999999996,{"$f":"Baseline!H35*Baseline!I35","v":37.567},4.8934479614432727,null,{"$f":"GEOMEAN(Q25:Q34)","v":2.9489930261467792},"Modeling"]
[{"$f":"Results1!C36","v":"CPU Computing"},{"$f":"Results1!A36","v":"Test1500"},{"$f":"Results1!D36","v":9.8369999999999997},{"$f":"Results1!E36","v":1},9.8369999999999997,null,{"$f":"Results2!D36","v":9.6530000000000005},{"$f":"Results2!E36","v":1},9.6530000000000005,null,{"$f":"Results3!D36","v":10.27},{"$f":"Results3!E36","v":1},10.27,null,9.8369999999999997,{"$f":"Baseline!H36*Baseline!I36","v":16.911999999999999},1.719223340449324]
[{"$f":"Results1!C37","v":"GPU Rendering"},{"$f":"Results1!A37","v":"Test1070"},{"$f":"Results1!D37","v":5.7389999999999999},{"$f":"Results1!E37","v":1},5.7389999999999999,null,{"$f":"Results2!D37","v":5.7510000000000003},{"$f":"Results2!E37","v":1},5.7510000000000003,null,{"$f":"Results3!D37","v":5.7439999999999998},{"$f":"Results3!E37","v":1},5.7439999999999998,null,5.7439999999999998,{"$f":"Baseline!H37*Baseline!I37","v":36.409999999999997},6.3387883008356543]
[{"$f":"Results1!C38","v":"GPU Rendering"},{"$f":"Results1!A38","v":"Test1075"},{"$f":"Results1!D38","v":3.4249999999999998},{"$f":"Results1!E38","v":1},3.4249999999999998,null,{"$f":"Results2!D38","v":3.3940000000000001},{"$f":"Results2!E38","v":1},3.3940000000000001,null,{"$f":"Results3!D38","v":3.44},{"$f":"Results3!E38","v":1},3.44,null,3.4249999999999998,{"$f":"Baseline!H38*Baseline!I38","v":19.760999999999999},5.76963503649635,null,{"$f":"GEOMEAN(Q35:Q37)","v":3.4402685074860857},"CPU Computing"]
[{"$f":"Results1!C39","v":"GPU Rendering"},{"$f":"Results1!A39","v":"Test1090"},{"$f":"Results1!D39","v":23.332000000000001},{"$f":"Results1!E39","v":1},23.332000000000001,null,{"$f":"Results2!D39","v":23.256},{"$f":"Results2!E39","v":1},23.256,null,{"$f":"Results3!D39","v":23.372},{"$f":"Results3!E39","v":1},23.372,null,23.332000000000001,{"$f":"Baseline!H39*Baseline!I39","v":70.036000000000001},3.0017143836790674]
[{"$f":"Results1!C40","v":"GPU Rendering"},{"$f":"Results1!A40","v":"Test1100"},{"$f":"Results1!D40","v":6.306},{"$f":"Results1!E40","v":1},6.306,null,{"$f":"Results2!D40","v":6.2229999999999999},{"$f":"Results2!E40","v":1},6.2229999999999999,null,{"$f":"Results3!D40","v":6.2919999999999998},{"$f":"Results3!E40","v":1},6.2919999999999998,null,6.2919999999999998,{"$f":"Baseline!H40*Baseline!I40","v":21.265999999999998},3.3798474253019704]
[{"$f":"Results1!C41","v":"GPU Rendering"},{"$f":"Results1!A41","v":"Test1105"},{"$f":"Results1!D41","v":6.2910000000000004},{"$f":"Results1!E41","v":1},6.2910000000000004,null,{"$f":"Results2!D41","v":6.258},{"$f":"Results2!E41","v":1},6.258,null,{"$f":"Results3!D41","v":6.2930000000000001},{"$f":"Results3!E41","v":1},6.2930000000000001,null,6.2910000000000004,{"$f":"Baseline!H41*Baseline!I41","v":22.489000000000001},3.5747893816563345]
[{"$f":"Results1!C42","v":"GPU Rendering"},{"$f":"Results1!A42","v":"Test1110"},{"$f":"Results1!D42","v":5.4720000000000004},{"$f":"Results1!E42","v":1},5.4720000000000004,null,{"$f":"Results2!D42","v":5.3869999999999996},{"$f":"Results2!E42","v":1},5.3869999999999996,null,{"$f":"Results3!D42","v":5.4349999999999996},{"$f":"Results3!E42","v":1},5.4349999999999996,null,5.4349999999999996,{"$f":"Baseline!H42*Baseline!I42","v":16.329999999999998},3.0045998160073597]
[{"$f":"Results1!C43","v":"GPU Rendering"},{"$f":"Results1!A43","v":"Test1120"},{"$f":"Results1!D43","v":4.5839999999999996},{"$f":"Results1!E43","v":1},4.5839999999999996,null,{"$f":"Results2!D43","v":4.4980000000000002},{"$f":"Results2!E43","v":1},4.4980000000000002,null,{"$f":"Results3!D43","v":4.4889999999999999},{"$f":"Results3!E43","v":1},4.4889999999999999,null,4.4980000000000002,{"$f":"Baseline!H43*Baseline!I43","v":21.353000000000002},4.7472209871053801]
[{"$f":"Results1!C44","v":"GPU Rendering"},{"$f":"Results1!A44","v":"Test1520"},{"$f":"Results1!D44","v":9.3040000000000003},{"$f":"Results1!E44","v":1},9.3040000000000003,null,{"$f":"Results2!D44","v":9.1820000000000004},{"$f":"Results2!E44","v":1},9.1820000000000004,null,{"$f":"Results3!D44","v":9.2140000000000004},{"$f":"Results3!E44","v":1},9.2140000000000004,null,9.2140000000000004,{"$f":"Baseline!H44*Baseline!I44","v":23.928000000000001},2.5969177338832212]
[{"$f":"Results1!C45","v":"CPU Rendering"},{"$f":"Results1!A45","v":"Test8120"},{"$f":"Results1!D45","v":68.870999999999995},{"$f":"Results1!E45","v":1},68.870999999999995,null,{"$f":"Results2!D45","v":67.94},{"$f":"Results2!E45","v":1},67.94,null,{"$f":"Results3!D45","v":68.396000000000001},{"$f":"Results3!E45","v":1},68.396000000000001,null,68.396000000000001,{"$f":"Baseline!H45*Baseline!I45","v":448.45400000000001},6.5567284636528456]
[{"$f":"Results1!C46","v":"CPU Rendering"},{"$f":"Results1!A46","v":"Test1095"},{"$f":"Results1!D46","v":156.446},{"$f":"Results1!E46","v":1},156.446,null,{"$f":"Results2!D46","v":151.99},{"$f":"Results2!E46","v":1},151.99,null,{"$f":"Results3!D46","v":154.267},{"$f":"Results3!E46","v":1},154.267,null,154.267,{"$f":"Baseline!H46*Baseline!I46","v":1088.82},7.0580227786888967,null,{"$f":"GEOMEAN(Q38:Q45)","v":3.858508608967234},"GPU Rendering"]
[{"$f":"Results1!C47","v":"CPU Rendering"},{"$f":"Results1!A47","v":"Test1115"},{"$f":"Results1!D47","v":70.102999999999994},{"$f":"Results1!E47","v":1},70.102999999999994,null,{"$f":"Results2!D47","v":67.179000000000002},{"$f":"Results2!E47","v":1},67.179000000000002,null,{"$f":"Results3!D47","v":67.802999999999997},{"$f":"Results3!E47","v":1},67.802999999999997,null,67.802999999999997,{"$f":"Baseline!H47*Baseline!I47","v":487.18700000000001},7.1853310325501827]
[{"$f":"Results1!C48","v":"CPU Rendering"},{"$f":"Results1!A48","v":"Test1040"},{"$f":"Results1!D48","v":15.563000000000001},{"$f":"Results1!E48","v":1},15.563000000000001,null,{"$f":"Results2!D48","v":15.428000000000001},{"$f":"Results2!E48","v":1},15.428000000000001,null,{"$f":"Results3!D48","v":15.613},{"$f":"Results3!E48","v":1},15.613,null,15.563000000000001,{"$f":"Baseline!H48*Baseline!I48","v":91.484999999999999},5.8783653537235745]
[{"$f":"Results1!C49","v":"CPU Rendering"},{"$f":"Results1!A49","v":"Test1060"},{"$f":"Results1!D49","v":12.021000000000001},{"$f":"Results1!E49","v":1},12.021000000000001,null,{"$f":"Results2!D49","v":11.723000000000001},{"$f":"Results2!E49","v":1},11.723000000000001,null,{"$f":"Results3!D49","v":11.827},{"$f":"Results3!E49","v":1},11.827,null,11.827,{"$f":"Baseline!H49*Baseline!I49","v":62.753},5.3059102054620784]
[{"$f":"Results1!C50","v":0},{"$f":"Results1!A50","v":0},{"$f":"Results1!D50","v":0},{"$f":"Results1!E50","v":0},0,null,{"$f":"Results2!D50","v":0},{"$f":"Results2!E50","v":0},0,null,{"$f":"Results3!D50","v":0},{"$f":"Results3!E50","v":0},0,null,0,{"$f":"Baseline!H50*Baseline!I50","v":0},0]
[{"$f":"Results1!C51","v":0},{"$f":"Results1!A51","v":0},{"$f":"Results1!D51","v":0},{"$f":"Results1!E51","v":0},0,null,{"$f":"Results2!D51","v":0},{"$f":"Results2!E51","v":0},0,null,{"$f":"Results3!D51","v":0},{"$f":"Results3!E51","v":0},0,null,0,{"$f":"Baseline!H51*Baseline!I51","v":0},0,null,{"$f":"GEOMEAN(Q46:Q50)","v":6.3557484646745506},"CPU Rendering"]

{"sheet":"SystemInformation","index":6,"n_rows":39,"n_cols":7,"rows_kept":39,"cut":false,"hidden":false,"merged":[]}
["==========================================",null,null,null,null,null,{"$f":"OFFSET(INDEX(A1:A60,MATCH(G2,A1:A60,0)),0,1)","v":"  No AA"}]
["  GRAPHICS HARDWARE CONFIGURATION",null,null,null,null,null,"Anti-Aliasing Setting"]
["=========================================="]
["Description"," NVIDIA Quadro K5000",null,null,null,null,{"$f":"OFFSET(INDEX(A1:A10,MATCH(G5,A1:A10,0)),0,1)","v":" NVIDIA Quadro K5000"}]
["InstalledDriverVersion"," 9.18.13.3250",null,null,null,null,"Description"]
["DriverDate"," 01/24/2014 00",0,0]
[null,null,null,null,null,null,{"$f":"OFFSET(INDEX(A1:A10,MATCH(G8,A1:A10,0)),0,1)","v":" 9.18.13.3250"}]
[null,null,null,null,null,null,"InstalledDriverVersion"]
["=========================================="]
["  SYSTEM HARDWARE CONFIGURATION"]
["=========================================="]
["Manufacturer"," Hewlett-Packard"]
["Model"," HP Z420 Workstation"]
[]
["CPU DETAIL"]
["CPU0"]
["Name"," Intel(R) Xeon(R) CPU E5-1660 v2 @ 3.70GHz"]
["L2CacheSize",1536]
["L3CacheSize",15360]
["MaxClockSpeed",3701]
["NumberOfCores",6]
["NumberOfLogicalProcessors",6]
[]
[]
["MEMORY DETAIL"]
["System Memory Stats Prior to Benchmark Start"," "]
["Total Installed System RAM",16699200]
["Total Free System RAM",14736816]
["Total Page File",33396536]
["Available Page File",31429520]
[]
["=========================================="]
["  SOFTWARE CONFIGURATION"]
["=========================================="]
["Operating System"," Microsoft Windows 7 Professional  64-bit"]
[]
["Anti-Aliasing Setting","  No AA"]
["Test run using application window size","  1912x1076"]
["TEST STATUS"," SUCCESSFUL"]

{"sheet":"TestConfig","index":7,"n_rows":2,"n_cols":7,"rows_kept":2,"cut":false,"hidden":false,"merged":[]}
["<?xml","version=\"1.0\"","encoding=\"utf-8\"?"]
["<Results","Graphics=\"\"","Resolution=\"[1920,1200]\"","Date=\"7/29/2014","03:07:58","PM\"","AASetting=\"none\""]

{"sheet":"ExportSheet","index":8,"n_rows":11,"n_cols":2,"rows_kept":11,"cut":false,"hidden":false,"merged":[]}
[{"$f":"Overview!C7","v":"CPU Composite Score"},{"$f":"Overview!E7","v":4.6670994503722509}]
[{"$f":"Overview!C8","v":"GPU Composite Score"},{"$f":"Overview!E8","v":3.6819696119286349}]
[{"$f":"Overview!C9","v":"Large Model Composite Score"},{"$f":"Overview!E9","v":3.7554285038665878}]
[{"$f":"Overview!C10","v":"Large Model CPU"},{"$f":"Overview!E10","v":2.4877857267492582}]
[{"$f":"Overview!C11","v":"LargeModel GPU"},{"$f":"Overview!E11","v":5.668994357517307}]
[{"$f":"Overview!C12","v":"Interactive Graphics"},{"$f":"Overview!E12","v":3.6353359149070474}]
[{"$f":"Overview!C13","v":"Advanced Visual Styles"},{"$f":"Overview!E13","v":4.8008427154794386}]
[{"$f":"Overview!C14","v":"Modeling"},{"$f":"Overview!E14","v":2.9489930261467792}]
[{"$f":"Overview!C15","v":"CPU Computing"},{"$f":"Overview!E15","v":3.4402685074860857}]
[{"$f":"Overview!C16","v":"CPU Rendering"},{"$f":"Overview!E16","v":6.3557484646745506}]
[{"$f":"Overview!C17","v":"GPU Rendering"},{"$f":"Overview!E17","v":3.858508608967234}]